BEGIN:VCALENDAR
VERSION:2.0
PRODID:https://www.kufer.de/kuferweb / DE
METHOD:PUBLISH
CALSCALE:GREGORIAN
X-WR-TIMEZONE:Europe/Berlin
BEGIN:VTIMEZONE
TZID:Europe/Berlin
X-LIC-LOCATION:Europe/Berlin
BEGIN:DAYLIGHT
TZOFFSETFROM:+0100
TZOFFSETTO:+0200
TZNAME:CEST
DTSTART:19700329T020000
RRULE:FREQ=YEARLY;INTERVAL=1;BYDAY=-1SU;BYMONTH=3
END:DAYLIGHT
BEGIN:STANDARD
TZOFFSETFROM:+0200
TZOFFSETTO:+0100
TZNAME:CET
DTSTART:19701025T030000
RRULE:FREQ=YEARLY;INTERVAL=1;BYDAY=-1SU;BYMONTH=10
END:STANDARD
END:VTIMEZONE
BEGIN:VEVENT
DTSTAMP:20260420T144338
DTSTART;TZID=Europe/Berlin:20260206T170000
DTEND;TZID=Europe/Berlin:20260206T183000
UID:261-312071-20260206T170000@VHSASCHAFFENBURG
SUMMARY:Gesundheitsorientierte Gymnastik (261-312071) 
LOCATION:Kleinostheim, Vitamar, Kirchstr., Gymnastikraum, 63801 Kleinostheim
END:VEVENT
BEGIN:VEVENT
DTSTAMP:20260420T144338
DTSTART;TZID=Europe/Berlin:20260213T170000
DTEND;TZID=Europe/Berlin:20260213T183000
UID:261-312071-20260213T170000@VHSASCHAFFENBURG
SUMMARY:Gesundheitsorientierte Gymnastik (261-312071) 
LOCATION:Kleinostheim, Vitamar, Kirchstr., Gymnastikraum, 63801 Kleinostheim
END:VEVENT
BEGIN:VEVENT
DTSTAMP:20260420T144338
DTSTART;TZID=Europe/Berlin:20260227T170000
DTEND;TZID=Europe/Berlin:20260227T183000
UID:261-312071-20260227T170000@VHSASCHAFFENBURG
SUMMARY:Gesundheitsorientierte Gymnastik (261-312071) 
LOCATION:Kleinostheim, Vitamar, Kirchstr., Gymnastikraum, 63801 Kleinostheim
END:VEVENT
BEGIN:VEVENT
DTSTAMP:20260420T144338
DTSTART;TZID=Europe/Berlin:20260306T170000
DTEND;TZID=Europe/Berlin:20260306T183000
UID:261-312071-20260306T170000@VHSASCHAFFENBURG
SUMMARY:Gesundheitsorientierte Gymnastik (261-312071) 
LOCATION:Kleinostheim, Vitamar, Kirchstr., Gymnastikraum, 63801 Kleinostheim
END:VEVENT
BEGIN:VEVENT
DTSTAMP:20260420T144338
DTSTART;TZID=Europe/Berlin:20260313T170000
DTEND;TZID=Europe/Berlin:20260313T183000
UID:261-312071-20260313T170000@VHSASCHAFFENBURG
SUMMARY:Gesundheitsorientierte Gymnastik (261-312071) 
LOCATION:Kleinostheim, Vitamar, Kirchstr., Gymnastikraum, 63801 Kleinostheim
END:VEVENT
BEGIN:VEVENT
DTSTAMP:20260420T144338
DTSTART;TZID=Europe/Berlin:20260320T170000
DTEND;TZID=Europe/Berlin:20260320T183000
UID:261-312071-20260320T170000@VHSASCHAFFENBURG
SUMMARY:Gesundheitsorientierte Gymnastik (261-312071) 
LOCATION:Kleinostheim, Vitamar, Kirchstr., Gymnastikraum, 63801 Kleinostheim
END:VEVENT
BEGIN:VEVENT
DTSTAMP:20260420T144338
DTSTART;TZID=Europe/Berlin:20260327T170000
DTEND;TZID=Europe/Berlin:20260327T183000
UID:261-312071-20260327T170000@VHSASCHAFFENBURG
SUMMARY:Gesundheitsorientierte Gymnastik (261-312071) 
LOCATION:Kleinostheim, Vitamar, Kirchstr., Gymnastikraum, 63801 Kleinostheim
END:VEVENT
BEGIN:VEVENT
DTSTAMP:20260420T144338
DTSTART;TZID=Europe/Berlin:20260417T170000
DTEND;TZID=Europe/Berlin:20260417T183000
UID:261-312071-20260417T170000@VHSASCHAFFENBURG
SUMMARY:Gesundheitsorientierte Gymnastik (261-312071) 
LOCATION:Kleinostheim, Vitamar, Kirchstr., Gymnastikraum, 63801 Kleinostheim
END:VEVENT
BEGIN:VEVENT
DTSTAMP:20260420T144338
DTSTART;TZID=Europe/Berlin:20260424T170000
DTEND;TZID=Europe/Berlin:20260424T183000
UID:261-312071-20260424T170000@VHSASCHAFFENBURG
SUMMARY:Gesundheitsorientierte Gymnastik (261-312071) 
LOCATION:Kleinostheim, Vitamar, Kirchstr., Gymnastikraum, 63801 Kleinostheim
END:VEVENT
BEGIN:VEVENT
DTSTAMP:20260420T144338
DTSTART;TZID=Europe/Berlin:20260508T170000
DTEND;TZID=Europe/Berlin:20260508T183000
UID:261-312071-20260508T170000@VHSASCHAFFENBURG
SUMMARY:Gesundheitsorientierte Gymnastik (261-312071) 
LOCATION:Kleinostheim, Vitamar, Kirchstr., Gymnastikraum, 63801 Kleinostheim
END:VEVENT
BEGIN:VEVENT
DTSTAMP:20260420T144338
DTSTART;TZID=Europe/Berlin:20260515T170000
DTEND;TZID=Europe/Berlin:20260515T183000
UID:261-312071-20260515T170000@VHSASCHAFFENBURG
SUMMARY:Gesundheitsorientierte Gymnastik (261-312071) 
LOCATION:Kleinostheim, Vitamar, Kirchstr., Gymnastikraum, 63801 Kleinostheim
END:VEVENT
BEGIN:VEVENT
DTSTAMP:20260420T144338
DTSTART;TZID=Europe/Berlin:20260522T170000
DTEND;TZID=Europe/Berlin:20260522T183000
UID:261-312071-20260522T170000@VHSASCHAFFENBURG
SUMMARY:Gesundheitsorientierte Gymnastik (261-312071) 
LOCATION:Kleinostheim, Vitamar, Kirchstr., Gymnastikraum, 63801 Kleinostheim
END:VEVENT
BEGIN:VEVENT
DTSTAMP:20260420T144338
DTSTART;TZID=Europe/Berlin:20260612T170000
DTEND;TZID=Europe/Berlin:20260612T183000
UID:261-312071-20260612T170000@VHSASCHAFFENBURG
SUMMARY:Gesundheitsorientierte Gymnastik (261-312071) 
LOCATION:Kleinostheim, Vitamar, Kirchstr., Gymnastikraum, 63801 Kleinostheim
END:VEVENT
BEGIN:VEVENT
DTSTAMP:20260420T144338
DTSTART;TZID=Europe/Berlin:20260619T170000
DTEND;TZID=Europe/Berlin:20260619T183000
UID:261-312071-20260619T170000@VHSASCHAFFENBURG
SUMMARY:Gesundheitsorientierte Gymnastik (261-312071) 
LOCATION:Kleinostheim, Vitamar, Kirchstr., Gymnastikraum, 63801 Kleinostheim
END:VEVENT
END:VCALENDAR