BEGIN:VCALENDAR
VERSION:2.0
PRODID:https://www.kufer.de/kuferweb / DE
METHOD:PUBLISH
CALSCALE:GREGORIAN
X-WR-TIMEZONE:Europe/Berlin
BEGIN:VTIMEZONE
TZID:Europe/Berlin
X-LIC-LOCATION:Europe/Berlin
BEGIN:DAYLIGHT
TZOFFSETFROM:+0100
TZOFFSETTO:+0200
TZNAME:CEST
DTSTART:19700329T020000
RRULE:FREQ=YEARLY;INTERVAL=1;BYDAY=-1SU;BYMONTH=3
END:DAYLIGHT
BEGIN:STANDARD
TZOFFSETFROM:+0200
TZOFFSETTO:+0100
TZNAME:CET
DTSTART:19701025T030000
RRULE:FREQ=YEARLY;INTERVAL=1;BYDAY=-1SU;BYMONTH=10
END:STANDARD
END:VTIMEZONE
BEGIN:VEVENT
DTSTAMP:20260420T152316
DTSTART;TZID=Europe/Berlin:20260203T131500
DTEND;TZID=Europe/Berlin:20260203T144500
UID:261-313050-20260203T131500@VHSASCHAFFENBURG
SUMMARY:Tanzt einfach mit! (261-313050) 
LOCATION:Großostheim, Jugendhaus, nahe Bachgauhalle, Bachgaustr. 5, 63762 Großostheim
END:VEVENT
BEGIN:VEVENT
DTSTAMP:20260420T152316
DTSTART;TZID=Europe/Berlin:20260210T131500
DTEND;TZID=Europe/Berlin:20260210T144500
UID:261-313050-20260210T131500@VHSASCHAFFENBURG
SUMMARY:Tanzt einfach mit! (261-313050) 
LOCATION:Großostheim, Jugendhaus, nahe Bachgauhalle, Bachgaustr. 5, 63762 Großostheim
END:VEVENT
BEGIN:VEVENT
DTSTAMP:20260420T152316
DTSTART;TZID=Europe/Berlin:20260224T131500
DTEND;TZID=Europe/Berlin:20260224T144500
UID:261-313050-20260224T131500@VHSASCHAFFENBURG
SUMMARY:Tanzt einfach mit! (261-313050) 
LOCATION:Großostheim, Jugendhaus, nahe Bachgauhalle, Bachgaustr. 5, 63762 Großostheim
END:VEVENT
BEGIN:VEVENT
DTSTAMP:20260420T152316
DTSTART;TZID=Europe/Berlin:20260303T131500
DTEND;TZID=Europe/Berlin:20260303T144500
UID:261-313050-20260303T131500@VHSASCHAFFENBURG
SUMMARY:Tanzt einfach mit! (261-313050) 
LOCATION:Großostheim, Jugendhaus, nahe Bachgauhalle, Bachgaustr. 5, 63762 Großostheim
END:VEVENT
BEGIN:VEVENT
DTSTAMP:20260420T152316
DTSTART;TZID=Europe/Berlin:20260310T131500
DTEND;TZID=Europe/Berlin:20260310T144500
UID:261-313050-20260310T131500@VHSASCHAFFENBURG
SUMMARY:Tanzt einfach mit! (261-313050) 
LOCATION:Großostheim, Jugendhaus, nahe Bachgauhalle, Bachgaustr. 5, 63762 Großostheim
END:VEVENT
BEGIN:VEVENT
DTSTAMP:20260420T152316
DTSTART;TZID=Europe/Berlin:20260317T131500
DTEND;TZID=Europe/Berlin:20260317T144500
UID:261-313050-20260317T131500@VHSASCHAFFENBURG
SUMMARY:Tanzt einfach mit! (261-313050) 
LOCATION:Großostheim, Jugendhaus, nahe Bachgauhalle, Bachgaustr. 5, 63762 Großostheim
END:VEVENT
BEGIN:VEVENT
DTSTAMP:20260420T152316
DTSTART;TZID=Europe/Berlin:20260324T131500
DTEND;TZID=Europe/Berlin:20260324T144500
UID:261-313050-20260324T131500@VHSASCHAFFENBURG
SUMMARY:Tanzt einfach mit! (261-313050) 
LOCATION:Großostheim, Jugendhaus, nahe Bachgauhalle, Bachgaustr. 5, 63762 Großostheim
END:VEVENT
BEGIN:VEVENT
DTSTAMP:20260420T152316
DTSTART;TZID=Europe/Berlin:20260414T131500
DTEND;TZID=Europe/Berlin:20260414T144500
UID:261-313050-20260414T131500@VHSASCHAFFENBURG
SUMMARY:Tanzt einfach mit! (261-313050) 
LOCATION:Großostheim, Jugendhaus, nahe Bachgauhalle, Bachgaustr. 5, 63762 Großostheim
END:VEVENT
BEGIN:VEVENT
DTSTAMP:20260420T152316
DTSTART;TZID=Europe/Berlin:20260421T131500
DTEND;TZID=Europe/Berlin:20260421T144500
UID:261-313050-20260421T131500@VHSASCHAFFENBURG
SUMMARY:Tanzt einfach mit! (261-313050) 
LOCATION:Großostheim, Jugendhaus, nahe Bachgauhalle, Bachgaustr. 5, 63762 Großostheim
END:VEVENT
BEGIN:VEVENT
DTSTAMP:20260420T152316
DTSTART;TZID=Europe/Berlin:20260428T131500
DTEND;TZID=Europe/Berlin:20260428T144500
UID:261-313050-20260428T131500@VHSASCHAFFENBURG
SUMMARY:Tanzt einfach mit! (261-313050) 
LOCATION:Großostheim, Jugendhaus, nahe Bachgauhalle, Bachgaustr. 5, 63762 Großostheim
END:VEVENT
BEGIN:VEVENT
DTSTAMP:20260420T152316
DTSTART;TZID=Europe/Berlin:20260505T131500
DTEND;TZID=Europe/Berlin:20260505T144500
UID:261-313050-20260505T131500@VHSASCHAFFENBURG
SUMMARY:Tanzt einfach mit! (261-313050) 
LOCATION:Großostheim, Jugendhaus, nahe Bachgauhalle, Bachgaustr. 5, 63762 Großostheim
END:VEVENT
BEGIN:VEVENT
DTSTAMP:20260420T152316
DTSTART;TZID=Europe/Berlin:20260512T131500
DTEND;TZID=Europe/Berlin:20260512T144500
UID:261-313050-20260512T131500@VHSASCHAFFENBURG
SUMMARY:Tanzt einfach mit! (261-313050) 
LOCATION:Großostheim, Jugendhaus, nahe Bachgauhalle, Bachgaustr. 5, 63762 Großostheim
END:VEVENT
END:VCALENDAR