BEGIN:VCALENDAR
VERSION:2.0
PRODID:https://www.kufer.de/kuferweb / DE
METHOD:PUBLISH
CALSCALE:GREGORIAN
X-WR-TIMEZONE:Europe/Berlin
BEGIN:VTIMEZONE
TZID:Europe/Berlin
X-LIC-LOCATION:Europe/Berlin
BEGIN:DAYLIGHT
TZOFFSETFROM:+0100
TZOFFSETTO:+0200
TZNAME:CEST
DTSTART:19700329T020000
RRULE:FREQ=YEARLY;INTERVAL=1;BYDAY=-1SU;BYMONTH=3
END:DAYLIGHT
BEGIN:STANDARD
TZOFFSETFROM:+0200
TZOFFSETTO:+0100
TZNAME:CET
DTSTART:19701025T030000
RRULE:FREQ=YEARLY;INTERVAL=1;BYDAY=-1SU;BYMONTH=10
END:STANDARD
END:VTIMEZONE
BEGIN:VEVENT
DTSTAMP:20260422T121458
DTSTART;TZID=Europe/Berlin:20260205T171500
DTEND;TZID=Europe/Berlin:20260205T181500
UID:261-313054-20260205T171500@VHSASCHAFFENBURG
SUMMARY:Line Dance - Anfängerkurs (261-313054) 
LOCATION:Hösbach, Bürgersaal am Rathausplatz, Rathausstr. 3, 63768  Hösbach
END:VEVENT
BEGIN:VEVENT
DTSTAMP:20260422T121458
DTSTART;TZID=Europe/Berlin:20260212T171500
DTEND;TZID=Europe/Berlin:20260212T181500
UID:261-313054-20260212T171500@VHSASCHAFFENBURG
SUMMARY:Line Dance - Anfängerkurs (261-313054) 
LOCATION:Hösbach, Bürgersaal am Rathausplatz, Rathausstr. 3, 63768  Hösbach
END:VEVENT
BEGIN:VEVENT
DTSTAMP:20260422T121458
DTSTART;TZID=Europe/Berlin:20260305T171500
DTEND;TZID=Europe/Berlin:20260305T181500
UID:261-313054-20260305T171500@VHSASCHAFFENBURG
SUMMARY:Line Dance - Anfängerkurs (261-313054) 
LOCATION:Hösbach, Bürgersaal am Rathausplatz, Rathausstr. 3, 63768  Hösbach
END:VEVENT
BEGIN:VEVENT
DTSTAMP:20260422T121458
DTSTART;TZID=Europe/Berlin:20260312T171500
DTEND;TZID=Europe/Berlin:20260312T181500
UID:261-313054-20260312T171500@VHSASCHAFFENBURG
SUMMARY:Line Dance - Anfängerkurs (261-313054) 
LOCATION:Hösbach, Bürgersaal am Rathausplatz, Rathausstr. 3, 63768  Hösbach
END:VEVENT
BEGIN:VEVENT
DTSTAMP:20260422T121458
DTSTART;TZID=Europe/Berlin:20260319T171500
DTEND;TZID=Europe/Berlin:20260319T181500
UID:261-313054-20260319T171500@VHSASCHAFFENBURG
SUMMARY:Line Dance - Anfängerkurs (261-313054) 
LOCATION:Hösbach, Bürgersaal am Rathausplatz, Rathausstr. 3, 63768  Hösbach
END:VEVENT
BEGIN:VEVENT
DTSTAMP:20260422T121458
DTSTART;TZID=Europe/Berlin:20260326T171500
DTEND;TZID=Europe/Berlin:20260326T181500
UID:261-313054-20260326T171500@VHSASCHAFFENBURG
SUMMARY:Line Dance - Anfängerkurs (261-313054) 
LOCATION:Hösbach, Bürgersaal am Rathausplatz, Rathausstr. 3, 63768  Hösbach
END:VEVENT
BEGIN:VEVENT
DTSTAMP:20260422T121458
DTSTART;TZID=Europe/Berlin:20260416T171500
DTEND;TZID=Europe/Berlin:20260416T181500
UID:261-313054-20260416T171500@VHSASCHAFFENBURG
SUMMARY:Line Dance - Anfängerkurs (261-313054) 
LOCATION:Hösbach, Bürgersaal am Rathausplatz, Rathausstr. 3, 63768  Hösbach
END:VEVENT
BEGIN:VEVENT
DTSTAMP:20260422T121458
DTSTART;TZID=Europe/Berlin:20260423T171500
DTEND;TZID=Europe/Berlin:20260423T181500
UID:261-313054-20260423T171500@VHSASCHAFFENBURG
SUMMARY:Line Dance - Anfängerkurs (261-313054) 
LOCATION:Hösbach, Bürgersaal am Rathausplatz, Rathausstr. 3, 63768  Hösbach
END:VEVENT
BEGIN:VEVENT
DTSTAMP:20260422T121458
DTSTART;TZID=Europe/Berlin:20260430T171500
DTEND;TZID=Europe/Berlin:20260430T181500
UID:261-313054-20260430T171500@VHSASCHAFFENBURG
SUMMARY:Line Dance - Anfängerkurs (261-313054) 
LOCATION:Hösbach, Bürgersaal am Rathausplatz, Rathausstr. 3, 63768  Hösbach
END:VEVENT
BEGIN:VEVENT
DTSTAMP:20260422T121458
DTSTART;TZID=Europe/Berlin:20260507T171500
DTEND;TZID=Europe/Berlin:20260507T181500
UID:261-313054-20260507T171500@VHSASCHAFFENBURG
DESCRIPTION:Ersatz für Ausfall am 26.02.2026
SUMMARY:Line Dance - Anfängerkurs (261-313054) 
LOCATION:Hösbach, Bürgersaal am Rathausplatz, Rathausstr. 3, 63768  Hösbach
END:VEVENT
END:VCALENDAR