BEGIN:VCALENDAR
VERSION:2.0
PRODID:https://www.kufer.de/kuferweb / DE
METHOD:PUBLISH
CALSCALE:GREGORIAN
X-WR-TIMEZONE:Europe/Berlin
BEGIN:VTIMEZONE
TZID:Europe/Berlin
X-LIC-LOCATION:Europe/Berlin
BEGIN:DAYLIGHT
TZOFFSETFROM:+0100
TZOFFSETTO:+0200
TZNAME:CEST
DTSTART:19700329T020000
RRULE:FREQ=YEARLY;INTERVAL=1;BYDAY=-1SU;BYMONTH=3
END:DAYLIGHT
BEGIN:STANDARD
TZOFFSETFROM:+0200
TZOFFSETTO:+0100
TZNAME:CET
DTSTART:19701025T030000
RRULE:FREQ=YEARLY;INTERVAL=1;BYDAY=-1SU;BYMONTH=10
END:STANDARD
END:VTIMEZONE
BEGIN:VEVENT
DTSTAMP:20260420T175925
DTSTART;TZID=Europe/Berlin:20260205T183000
DTEND;TZID=Europe/Berlin:20260205T200000
UID:261-313055-20260205T183000@VHSASCHAFFENBURG
SUMMARY:Line Dance Aufbaukurs (261-313055) 
LOCATION:Hösbach, Bürgersaal am Rathausplatz, Rathausstr. 3, 63768  Hösbach
END:VEVENT
BEGIN:VEVENT
DTSTAMP:20260420T175925
DTSTART;TZID=Europe/Berlin:20260212T183000
DTEND;TZID=Europe/Berlin:20260212T200000
UID:261-313055-20260212T183000@VHSASCHAFFENBURG
SUMMARY:Line Dance Aufbaukurs (261-313055) 
LOCATION:Hösbach, Bürgersaal am Rathausplatz, Rathausstr. 3, 63768  Hösbach
END:VEVENT
BEGIN:VEVENT
DTSTAMP:20260420T175925
DTSTART;TZID=Europe/Berlin:20260305T183000
DTEND;TZID=Europe/Berlin:20260305T200000
UID:261-313055-20260305T183000@VHSASCHAFFENBURG
SUMMARY:Line Dance Aufbaukurs (261-313055) 
LOCATION:Hösbach, Bürgersaal am Rathausplatz, Rathausstr. 3, 63768  Hösbach
END:VEVENT
BEGIN:VEVENT
DTSTAMP:20260420T175925
DTSTART;TZID=Europe/Berlin:20260312T183000
DTEND;TZID=Europe/Berlin:20260312T200000
UID:261-313055-20260312T183000@VHSASCHAFFENBURG
SUMMARY:Line Dance Aufbaukurs (261-313055) 
LOCATION:Hösbach, Bürgersaal am Rathausplatz, Rathausstr. 3, 63768  Hösbach
END:VEVENT
BEGIN:VEVENT
DTSTAMP:20260420T175925
DTSTART;TZID=Europe/Berlin:20260319T183000
DTEND;TZID=Europe/Berlin:20260319T200000
UID:261-313055-20260319T183000@VHSASCHAFFENBURG
SUMMARY:Line Dance Aufbaukurs (261-313055) 
LOCATION:Hösbach, Bürgersaal am Rathausplatz, Rathausstr. 3, 63768  Hösbach
END:VEVENT
BEGIN:VEVENT
DTSTAMP:20260420T175925
DTSTART;TZID=Europe/Berlin:20260326T183000
DTEND;TZID=Europe/Berlin:20260326T200000
UID:261-313055-20260326T183000@VHSASCHAFFENBURG
SUMMARY:Line Dance Aufbaukurs (261-313055) 
LOCATION:Hösbach, Bürgersaal am Rathausplatz, Rathausstr. 3, 63768  Hösbach
END:VEVENT
BEGIN:VEVENT
DTSTAMP:20260420T175925
DTSTART;TZID=Europe/Berlin:20260416T183000
DTEND;TZID=Europe/Berlin:20260416T200000
UID:261-313055-20260416T183000@VHSASCHAFFENBURG
SUMMARY:Line Dance Aufbaukurs (261-313055) 
LOCATION:Hösbach, Bürgersaal am Rathausplatz, Rathausstr. 3, 63768  Hösbach
END:VEVENT
BEGIN:VEVENT
DTSTAMP:20260420T175925
DTSTART;TZID=Europe/Berlin:20260423T183000
DTEND;TZID=Europe/Berlin:20260423T200000
UID:261-313055-20260423T183000@VHSASCHAFFENBURG
SUMMARY:Line Dance Aufbaukurs (261-313055) 
LOCATION:Hösbach, Bürgersaal am Rathausplatz, Rathausstr. 3, 63768  Hösbach
END:VEVENT
BEGIN:VEVENT
DTSTAMP:20260420T175925
DTSTART;TZID=Europe/Berlin:20260430T183000
DTEND;TZID=Europe/Berlin:20260430T200000
UID:261-313055-20260430T183000@VHSASCHAFFENBURG
SUMMARY:Line Dance Aufbaukurs (261-313055) 
LOCATION:Hösbach, Bürgersaal am Rathausplatz, Rathausstr. 3, 63768  Hösbach
END:VEVENT
BEGIN:VEVENT
DTSTAMP:20260420T175925
DTSTART;TZID=Europe/Berlin:20260507T183000
DTEND;TZID=Europe/Berlin:20260507T200000
UID:261-313055-20260507T183000@VHSASCHAFFENBURG
DESCRIPTION:Ersatz für Ausfall am 26.02.2026
SUMMARY:Line Dance Aufbaukurs (261-313055) 
LOCATION:Hösbach, Bürgersaal am Rathausplatz, Rathausstr. 3, 63768  Hösbach
END:VEVENT
END:VCALENDAR