BEGIN:VCALENDAR
VERSION:2.0
PRODID:https://www.kufer.de/kuferweb / DE
METHOD:PUBLISH
CALSCALE:GREGORIAN
X-WR-TIMEZONE:Europe/Berlin
BEGIN:VTIMEZONE
TZID:Europe/Berlin
X-LIC-LOCATION:Europe/Berlin
BEGIN:DAYLIGHT
TZOFFSETFROM:+0100
TZOFFSETTO:+0200
TZNAME:CEST
DTSTART:19700329T020000
RRULE:FREQ=YEARLY;INTERVAL=1;BYDAY=-1SU;BYMONTH=3
END:DAYLIGHT
BEGIN:STANDARD
TZOFFSETFROM:+0200
TZOFFSETTO:+0100
TZNAME:CET
DTSTART:19701025T030000
RRULE:FREQ=YEARLY;INTERVAL=1;BYDAY=-1SU;BYMONTH=10
END:STANDARD
END:VTIMEZONE
BEGIN:VEVENT
DTSTAMP:20260420T150403
DTSTART;TZID=Europe/Berlin:20260202T190000
DTEND;TZID=Europe/Berlin:20260202T203000
UID:261-321121-20260202T190000@VHSASCHAFFENBURG
SUMMARY:Hatha-Yoga (ZPP-Präventionskurs) (261-321121) 
LOCATION:Waldaschaff, Verbandsschule, Schulstr. 3, Mehrzweckraum, 63857 Waldaschaff
END:VEVENT
BEGIN:VEVENT
DTSTAMP:20260420T150403
DTSTART;TZID=Europe/Berlin:20260209T190000
DTEND;TZID=Europe/Berlin:20260209T203000
UID:261-321121-20260209T190000@VHSASCHAFFENBURG
SUMMARY:Hatha-Yoga (ZPP-Präventionskurs) (261-321121) 
LOCATION:Waldaschaff, Verbandsschule, Schulstr. 3, Mehrzweckraum, 63857 Waldaschaff
END:VEVENT
BEGIN:VEVENT
DTSTAMP:20260420T150403
DTSTART;TZID=Europe/Berlin:20260223T190000
DTEND;TZID=Europe/Berlin:20260223T203000
UID:261-321121-20260223T190000@VHSASCHAFFENBURG
SUMMARY:Hatha-Yoga (ZPP-Präventionskurs) (261-321121) 
LOCATION:Waldaschaff, Verbandsschule, Schulstr. 3, Mehrzweckraum, 63857 Waldaschaff
END:VEVENT
BEGIN:VEVENT
DTSTAMP:20260420T150403
DTSTART;TZID=Europe/Berlin:20260302T190000
DTEND;TZID=Europe/Berlin:20260302T203000
UID:261-321121-20260302T190000@VHSASCHAFFENBURG
SUMMARY:Hatha-Yoga (ZPP-Präventionskurs) (261-321121) 
LOCATION:Waldaschaff, Verbandsschule, Schulstr. 3, Mehrzweckraum, 63857 Waldaschaff
END:VEVENT
BEGIN:VEVENT
DTSTAMP:20260420T150403
DTSTART;TZID=Europe/Berlin:20260309T190000
DTEND;TZID=Europe/Berlin:20260309T203000
UID:261-321121-20260309T190000@VHSASCHAFFENBURG
SUMMARY:Hatha-Yoga (ZPP-Präventionskurs) (261-321121) 
LOCATION:Waldaschaff, Verbandsschule, Schulstr. 3, Mehrzweckraum, 63857 Waldaschaff
END:VEVENT
BEGIN:VEVENT
DTSTAMP:20260420T150403
DTSTART;TZID=Europe/Berlin:20260316T190000
DTEND;TZID=Europe/Berlin:20260316T203000
UID:261-321121-20260316T190000@VHSASCHAFFENBURG
SUMMARY:Hatha-Yoga (ZPP-Präventionskurs) (261-321121) 
LOCATION:Waldaschaff, Verbandsschule, Schulstr. 3, Mehrzweckraum, 63857 Waldaschaff
END:VEVENT
BEGIN:VEVENT
DTSTAMP:20260420T150403
DTSTART;TZID=Europe/Berlin:20260323T190000
DTEND;TZID=Europe/Berlin:20260323T203000
UID:261-321121-20260323T190000@VHSASCHAFFENBURG
SUMMARY:Hatha-Yoga (ZPP-Präventionskurs) (261-321121) 
LOCATION:Waldaschaff, Verbandsschule, Schulstr. 3, Mehrzweckraum, 63857 Waldaschaff
END:VEVENT
BEGIN:VEVENT
DTSTAMP:20260420T150403
DTSTART;TZID=Europe/Berlin:20260330T190000
DTEND;TZID=Europe/Berlin:20260330T203000
UID:261-321121-20260330T190000@VHSASCHAFFENBURG
SUMMARY:Hatha-Yoga (ZPP-Präventionskurs) (261-321121) 
LOCATION:Waldaschaff, Verbandsschule, Schulstr. 3, Mehrzweckraum, 63857 Waldaschaff
END:VEVENT
BEGIN:VEVENT
DTSTAMP:20260420T150403
DTSTART;TZID=Europe/Berlin:20260413T190000
DTEND;TZID=Europe/Berlin:20260413T203000
UID:261-321121-20260413T190000@VHSASCHAFFENBURG
SUMMARY:Hatha-Yoga (ZPP-Präventionskurs) (261-321121) 
LOCATION:Waldaschaff, Verbandsschule, Schulstr. 3, Mehrzweckraum, 63857 Waldaschaff
END:VEVENT
BEGIN:VEVENT
DTSTAMP:20260420T150403
DTSTART;TZID=Europe/Berlin:20260420T190000
DTEND;TZID=Europe/Berlin:20260420T203000
UID:261-321121-20260420T190000@VHSASCHAFFENBURG
SUMMARY:Hatha-Yoga (ZPP-Präventionskurs) (261-321121) 
LOCATION:Waldaschaff, Verbandsschule, Schulstr. 3, Mehrzweckraum, 63857 Waldaschaff
END:VEVENT
BEGIN:VEVENT
DTSTAMP:20260420T150403
DTSTART;TZID=Europe/Berlin:20260427T190000
DTEND;TZID=Europe/Berlin:20260427T203000
UID:261-321121-20260427T190000@VHSASCHAFFENBURG
SUMMARY:Hatha-Yoga (ZPP-Präventionskurs) (261-321121) 
LOCATION:Waldaschaff, Verbandsschule, Schulstr. 3, Mehrzweckraum, 63857 Waldaschaff
END:VEVENT
BEGIN:VEVENT
DTSTAMP:20260420T150403
DTSTART;TZID=Europe/Berlin:20260504T190000
DTEND;TZID=Europe/Berlin:20260504T203000
UID:261-321121-20260504T190000@VHSASCHAFFENBURG
SUMMARY:Hatha-Yoga (ZPP-Präventionskurs) (261-321121) 
LOCATION:Waldaschaff, Verbandsschule, Schulstr. 3, Mehrzweckraum, 63857 Waldaschaff
END:VEVENT
END:VCALENDAR