BEGIN:VCALENDAR
VERSION:2.0
PRODID:https://www.kufer.de/kuferweb / DE
METHOD:PUBLISH
CALSCALE:GREGORIAN
X-WR-TIMEZONE:Europe/Berlin
BEGIN:VTIMEZONE
TZID:Europe/Berlin
X-LIC-LOCATION:Europe/Berlin
BEGIN:DAYLIGHT
TZOFFSETFROM:+0100
TZOFFSETTO:+0200
TZNAME:CEST
DTSTART:19700329T020000
RRULE:FREQ=YEARLY;INTERVAL=1;BYDAY=-1SU;BYMONTH=3
END:DAYLIGHT
BEGIN:STANDARD
TZOFFSETFROM:+0200
TZOFFSETTO:+0100
TZNAME:CET
DTSTART:19701025T030000
RRULE:FREQ=YEARLY;INTERVAL=1;BYDAY=-1SU;BYMONTH=10
END:STANDARD
END:VTIMEZONE
BEGIN:VEVENT
DTSTAMP:20260420T150358
DTSTART;TZID=Europe/Berlin:20260206T190000
DTEND;TZID=Europe/Berlin:20260206T203000
UID:261-321123-20260206T190000@VHSASCHAFFENBURG
SUMMARY:Hatha-Yoga (ZPP-Präventionskurs) (261-321123) 
LOCATION:Waldaschaff, Verbandsschule, Schulstr. 3, Mehrzweckraum, 63857 Waldaschaff
END:VEVENT
BEGIN:VEVENT
DTSTAMP:20260420T150358
DTSTART;TZID=Europe/Berlin:20260213T190000
DTEND;TZID=Europe/Berlin:20260213T203000
UID:261-321123-20260213T190000@VHSASCHAFFENBURG
SUMMARY:Hatha-Yoga (ZPP-Präventionskurs) (261-321123) 
LOCATION:Waldaschaff, Verbandsschule, Schulstr. 3, Mehrzweckraum, 63857 Waldaschaff
END:VEVENT
BEGIN:VEVENT
DTSTAMP:20260420T150358
DTSTART;TZID=Europe/Berlin:20260227T190000
DTEND;TZID=Europe/Berlin:20260227T203000
UID:261-321123-20260227T190000@VHSASCHAFFENBURG
SUMMARY:Hatha-Yoga (ZPP-Präventionskurs) (261-321123) 
LOCATION:Waldaschaff, Verbandsschule, Schulstr. 3, Mehrzweckraum, 63857 Waldaschaff
END:VEVENT
BEGIN:VEVENT
DTSTAMP:20260420T150358
DTSTART;TZID=Europe/Berlin:20260306T190000
DTEND;TZID=Europe/Berlin:20260306T203000
UID:261-321123-20260306T190000@VHSASCHAFFENBURG
SUMMARY:Hatha-Yoga (ZPP-Präventionskurs) (261-321123) 
LOCATION:Waldaschaff, Verbandsschule, Schulstr. 3, Mehrzweckraum, 63857 Waldaschaff
END:VEVENT
BEGIN:VEVENT
DTSTAMP:20260420T150358
DTSTART;TZID=Europe/Berlin:20260313T190000
DTEND;TZID=Europe/Berlin:20260313T203000
UID:261-321123-20260313T190000@VHSASCHAFFENBURG
SUMMARY:Hatha-Yoga (ZPP-Präventionskurs) (261-321123) 
LOCATION:Waldaschaff, Verbandsschule, Schulstr. 3, Mehrzweckraum, 63857 Waldaschaff
END:VEVENT
BEGIN:VEVENT
DTSTAMP:20260420T150358
DTSTART;TZID=Europe/Berlin:20260320T190000
DTEND;TZID=Europe/Berlin:20260320T203000
UID:261-321123-20260320T190000@VHSASCHAFFENBURG
SUMMARY:Hatha-Yoga (ZPP-Präventionskurs) (261-321123) 
LOCATION:Waldaschaff, Verbandsschule, Schulstr. 3, Mehrzweckraum, 63857 Waldaschaff
END:VEVENT
BEGIN:VEVENT
DTSTAMP:20260420T150358
DTSTART;TZID=Europe/Berlin:20260327T190000
DTEND;TZID=Europe/Berlin:20260327T203000
UID:261-321123-20260327T190000@VHSASCHAFFENBURG
SUMMARY:Hatha-Yoga (ZPP-Präventionskurs) (261-321123) 
LOCATION:Waldaschaff, Verbandsschule, Schulstr. 3, Mehrzweckraum, 63857 Waldaschaff
END:VEVENT
BEGIN:VEVENT
DTSTAMP:20260420T150358
DTSTART;TZID=Europe/Berlin:20260410T190000
DTEND;TZID=Europe/Berlin:20260410T203000
UID:261-321123-20260410T190000@VHSASCHAFFENBURG
SUMMARY:Hatha-Yoga (ZPP-Präventionskurs) (261-321123) 
LOCATION:Waldaschaff, Verbandsschule, Schulstr. 3, Mehrzweckraum, 63857 Waldaschaff
END:VEVENT
BEGIN:VEVENT
DTSTAMP:20260420T150358
DTSTART;TZID=Europe/Berlin:20260417T190000
DTEND;TZID=Europe/Berlin:20260417T203000
UID:261-321123-20260417T190000@VHSASCHAFFENBURG
SUMMARY:Hatha-Yoga (ZPP-Präventionskurs) (261-321123) 
LOCATION:Waldaschaff, Verbandsschule, Schulstr. 3, Mehrzweckraum, 63857 Waldaschaff
END:VEVENT
BEGIN:VEVENT
DTSTAMP:20260420T150358
DTSTART;TZID=Europe/Berlin:20260424T190000
DTEND;TZID=Europe/Berlin:20260424T203000
UID:261-321123-20260424T190000@VHSASCHAFFENBURG
SUMMARY:Hatha-Yoga (ZPP-Präventionskurs) (261-321123) 
LOCATION:Waldaschaff, Verbandsschule, Schulstr. 3, Mehrzweckraum, 63857 Waldaschaff
END:VEVENT
BEGIN:VEVENT
DTSTAMP:20260420T150358
DTSTART;TZID=Europe/Berlin:20260508T190000
DTEND;TZID=Europe/Berlin:20260508T203000
UID:261-321123-20260508T190000@VHSASCHAFFENBURG
SUMMARY:Hatha-Yoga (ZPP-Präventionskurs) (261-321123) 
LOCATION:Waldaschaff, Verbandsschule, Schulstr. 3, Mehrzweckraum, 63857 Waldaschaff
END:VEVENT
BEGIN:VEVENT
DTSTAMP:20260420T150358
DTSTART;TZID=Europe/Berlin:20260515T190000
DTEND;TZID=Europe/Berlin:20260515T203000
UID:261-321123-20260515T190000@VHSASCHAFFENBURG
SUMMARY:Hatha-Yoga (ZPP-Präventionskurs) (261-321123) 
LOCATION:Waldaschaff, Verbandsschule, Schulstr. 3, Mehrzweckraum, 63857 Waldaschaff
END:VEVENT
END:VCALENDAR