BEGIN:VCALENDAR
VERSION:2.0
PRODID:https://www.kufer.de/kuferweb / DE
METHOD:PUBLISH
CALSCALE:GREGORIAN
X-WR-TIMEZONE:Europe/Berlin
BEGIN:VTIMEZONE
TZID:Europe/Berlin
X-LIC-LOCATION:Europe/Berlin
BEGIN:DAYLIGHT
TZOFFSETFROM:+0100
TZOFFSETTO:+0200
TZNAME:CEST
DTSTART:19700329T020000
RRULE:FREQ=YEARLY;INTERVAL=1;BYDAY=-1SU;BYMONTH=3
END:DAYLIGHT
BEGIN:STANDARD
TZOFFSETFROM:+0200
TZOFFSETTO:+0100
TZNAME:CET
DTSTART:19701025T030000
RRULE:FREQ=YEARLY;INTERVAL=1;BYDAY=-1SU;BYMONTH=10
END:STANDARD
END:VTIMEZONE
BEGIN:VEVENT
DTSTAMP:20260420T184911
DTSTART;TZID=Europe/Berlin:20260203T180500
DTEND;TZID=Europe/Berlin:20260203T193500
UID:261-321136-20260203T180500@VHSASCHAFFENBURG
SUMMARY:Yoga (261-321136) 
LOCATION:Weibersbrunn, Mehrzweckhalle, Rothenbucher Weg 45, Rothenbucher Weg 45, 63879 Weibersbrunn
END:VEVENT
BEGIN:VEVENT
DTSTAMP:20260420T184911
DTSTART;TZID=Europe/Berlin:20260210T180500
DTEND;TZID=Europe/Berlin:20260210T193500
UID:261-321136-20260210T180500@VHSASCHAFFENBURG
SUMMARY:Yoga (261-321136) 
LOCATION:Weibersbrunn, Mehrzweckhalle, Rothenbucher Weg 45, Rothenbucher Weg 45, 63879 Weibersbrunn
END:VEVENT
BEGIN:VEVENT
DTSTAMP:20260420T184911
DTSTART;TZID=Europe/Berlin:20260224T180500
DTEND;TZID=Europe/Berlin:20260224T193500
UID:261-321136-20260224T180500@VHSASCHAFFENBURG
SUMMARY:Yoga (261-321136) 
LOCATION:Weibersbrunn, Mehrzweckhalle, Rothenbucher Weg 45, Rothenbucher Weg 45, 63879 Weibersbrunn
END:VEVENT
BEGIN:VEVENT
DTSTAMP:20260420T184911
DTSTART;TZID=Europe/Berlin:20260303T180500
DTEND;TZID=Europe/Berlin:20260303T193500
UID:261-321136-20260303T180500@VHSASCHAFFENBURG
SUMMARY:Yoga (261-321136) 
LOCATION:Weibersbrunn, Mehrzweckhalle, Rothenbucher Weg 45, Rothenbucher Weg 45, 63879 Weibersbrunn
END:VEVENT
BEGIN:VEVENT
DTSTAMP:20260420T184911
DTSTART;TZID=Europe/Berlin:20260310T180500
DTEND;TZID=Europe/Berlin:20260310T193500
UID:261-321136-20260310T180500@VHSASCHAFFENBURG
SUMMARY:Yoga (261-321136) 
LOCATION:Weibersbrunn, Mehrzweckhalle, Rothenbucher Weg 45, Rothenbucher Weg 45, 63879 Weibersbrunn
END:VEVENT
BEGIN:VEVENT
DTSTAMP:20260420T184911
DTSTART;TZID=Europe/Berlin:20260317T180500
DTEND;TZID=Europe/Berlin:20260317T193500
UID:261-321136-20260317T180500@VHSASCHAFFENBURG
SUMMARY:Yoga (261-321136) 
LOCATION:Weibersbrunn, Mehrzweckhalle, Rothenbucher Weg 45, Rothenbucher Weg 45, 63879 Weibersbrunn
END:VEVENT
BEGIN:VEVENT
DTSTAMP:20260420T184911
DTSTART;TZID=Europe/Berlin:20260324T180500
DTEND;TZID=Europe/Berlin:20260324T193500
UID:261-321136-20260324T180500@VHSASCHAFFENBURG
SUMMARY:Yoga (261-321136) 
LOCATION:Weibersbrunn, Mehrzweckhalle, Rothenbucher Weg 45, Rothenbucher Weg 45, 63879 Weibersbrunn
END:VEVENT
BEGIN:VEVENT
DTSTAMP:20260420T184911
DTSTART;TZID=Europe/Berlin:20260414T180500
DTEND;TZID=Europe/Berlin:20260414T193500
UID:261-321136-20260414T180500@VHSASCHAFFENBURG
SUMMARY:Yoga (261-321136) 
LOCATION:Weibersbrunn, Mehrzweckhalle, Rothenbucher Weg 45, Rothenbucher Weg 45, 63879 Weibersbrunn
END:VEVENT
BEGIN:VEVENT
DTSTAMP:20260420T184911
DTSTART;TZID=Europe/Berlin:20260421T180500
DTEND;TZID=Europe/Berlin:20260421T193500
UID:261-321136-20260421T180500@VHSASCHAFFENBURG
SUMMARY:Yoga (261-321136) 
LOCATION:Weibersbrunn, Mehrzweckhalle, Rothenbucher Weg 45, Rothenbucher Weg 45, 63879 Weibersbrunn
END:VEVENT
BEGIN:VEVENT
DTSTAMP:20260420T184911
DTSTART;TZID=Europe/Berlin:20260428T180500
DTEND;TZID=Europe/Berlin:20260428T193500
UID:261-321136-20260428T180500@VHSASCHAFFENBURG
SUMMARY:Yoga (261-321136) 
LOCATION:Weibersbrunn, Mehrzweckhalle, Rothenbucher Weg 45, Rothenbucher Weg 45, 63879 Weibersbrunn
END:VEVENT
END:VCALENDAR