BEGIN:VCALENDAR
VERSION:2.0
PRODID:https://www.kufer.de/kuferweb / DE
METHOD:PUBLISH
CALSCALE:GREGORIAN
X-WR-TIMEZONE:Europe/Berlin
BEGIN:VTIMEZONE
TZID:Europe/Berlin
X-LIC-LOCATION:Europe/Berlin
BEGIN:DAYLIGHT
TZOFFSETFROM:+0100
TZOFFSETTO:+0200
TZNAME:CEST
DTSTART:19700329T020000
RRULE:FREQ=YEARLY;INTERVAL=1;BYDAY=-1SU;BYMONTH=3
END:DAYLIGHT
BEGIN:STANDARD
TZOFFSETFROM:+0200
TZOFFSETTO:+0100
TZNAME:CET
DTSTART:19701025T030000
RRULE:FREQ=YEARLY;INTERVAL=1;BYDAY=-1SU;BYMONTH=10
END:STANDARD
END:VTIMEZONE
BEGIN:VEVENT
DTSTAMP:20260420T102244
DTSTART;TZID=Europe/Berlin:20260303T173000
DTEND;TZID=Europe/Berlin:20260303T203000
UID:261-372301-20260303T173000@VHSASCHAFFENBURG
SUMMARY:Mein Lieblingsmenü (auch für Menschen mit Behinderung) (261-372301) 
LOCATION:vhs Aschaffenburg, Haupthaus, Luitpoldstr.2, Küche, EG, Luitpoldstr. 2, 63739 Aschaffenburg
END:VEVENT
BEGIN:VEVENT
DTSTAMP:20260420T102244
DTSTART;TZID=Europe/Berlin:20260310T173000
DTEND;TZID=Europe/Berlin:20260310T203000
UID:261-372301-20260310T173000@VHSASCHAFFENBURG
SUMMARY:Mein Lieblingsmenü (auch für Menschen mit Behinderung) (261-372301) 
LOCATION:vhs Aschaffenburg, Haupthaus, Luitpoldstr.2, Küche, EG, Luitpoldstr. 2, 63739 Aschaffenburg
END:VEVENT
BEGIN:VEVENT
DTSTAMP:20260420T102244
DTSTART;TZID=Europe/Berlin:20260324T173000
DTEND;TZID=Europe/Berlin:20260324T203000
UID:261-372301-20260324T173000@VHSASCHAFFENBURG
DESCRIPTION:Ersatz für Ausfall am 17.03.2026
SUMMARY:Mein Lieblingsmenü (auch für Menschen mit Behinderung) (261-372301) 
LOCATION:vhs Aschaffenburg, Haupthaus, Luitpoldstr.2, Küche, EG, Luitpoldstr. 2, 63739 Aschaffenburg
END:VEVENT
END:VCALENDAR