BEGIN:VCALENDAR
VERSION:2.0
PRODID:https://www.kufer.de/kuferweb / DE
METHOD:PUBLISH
CALSCALE:GREGORIAN
X-WR-TIMEZONE:Europe/Berlin
BEGIN:VTIMEZONE
TZID:Europe/Berlin
X-LIC-LOCATION:Europe/Berlin
BEGIN:DAYLIGHT
TZOFFSETFROM:+0100
TZOFFSETTO:+0200
TZNAME:CEST
DTSTART:19700329T020000
RRULE:FREQ=YEARLY;INTERVAL=1;BYDAY=-1SU;BYMONTH=3
END:DAYLIGHT
BEGIN:STANDARD
TZOFFSETFROM:+0200
TZOFFSETTO:+0100
TZNAME:CET
DTSTART:19701025T030000
RRULE:FREQ=YEARLY;INTERVAL=1;BYDAY=-1SU;BYMONTH=10
END:STANDARD
END:VTIMEZONE
BEGIN:VEVENT
DTSTAMP:20260426T003630
DTSTART;TZID=Europe/Berlin:20260518T200000
DTEND;TZID=Europe/Berlin:20260518T210000
UID:262-312005-20260518T200000@VHSASCHAFFENBURG
SUMMARY:Wohlfühlen mit AROHA® (262-312005) 
LOCATION:vhs Aschaffenburg, Schweinheimer Str. 15, Raum E01, Schweinheimer Str. 15, 63743 Aschaffenburg
END:VEVENT
BEGIN:VEVENT
DTSTAMP:20260426T003630
DTSTART;TZID=Europe/Berlin:20260608T200000
DTEND;TZID=Europe/Berlin:20260608T210000
UID:262-312005-20260608T200000@VHSASCHAFFENBURG
SUMMARY:Wohlfühlen mit AROHA® (262-312005) 
LOCATION:vhs Aschaffenburg, Schweinheimer Str. 15, Raum E01, Schweinheimer Str. 15, 63743 Aschaffenburg
END:VEVENT
BEGIN:VEVENT
DTSTAMP:20260426T003630
DTSTART;TZID=Europe/Berlin:20260615T200000
DTEND;TZID=Europe/Berlin:20260615T210000
UID:262-312005-20260615T200000@VHSASCHAFFENBURG
SUMMARY:Wohlfühlen mit AROHA® (262-312005) 
LOCATION:vhs Aschaffenburg, Schweinheimer Str. 15, Raum E01, Schweinheimer Str. 15, 63743 Aschaffenburg
END:VEVENT
BEGIN:VEVENT
DTSTAMP:20260426T003630
DTSTART;TZID=Europe/Berlin:20260622T200000
DTEND;TZID=Europe/Berlin:20260622T210000
UID:262-312005-20260622T200000@VHSASCHAFFENBURG
SUMMARY:Wohlfühlen mit AROHA® (262-312005) 
LOCATION:vhs Aschaffenburg, Schweinheimer Str. 15, Raum E01, Schweinheimer Str. 15, 63743 Aschaffenburg
END:VEVENT
BEGIN:VEVENT
DTSTAMP:20260426T003630
DTSTART;TZID=Europe/Berlin:20260629T200000
DTEND;TZID=Europe/Berlin:20260629T210000
UID:262-312005-20260629T200000@VHSASCHAFFENBURG
SUMMARY:Wohlfühlen mit AROHA® (262-312005) 
LOCATION:vhs Aschaffenburg, Schweinheimer Str. 15, Raum E01, Schweinheimer Str. 15, 63743 Aschaffenburg
END:VEVENT
BEGIN:VEVENT
DTSTAMP:20260426T003630
DTSTART;TZID=Europe/Berlin:20260706T200000
DTEND;TZID=Europe/Berlin:20260706T210000
UID:262-312005-20260706T200000@VHSASCHAFFENBURG
SUMMARY:Wohlfühlen mit AROHA® (262-312005) 
LOCATION:vhs Aschaffenburg, Schweinheimer Str. 15, Raum E01, Schweinheimer Str. 15, 63743 Aschaffenburg
END:VEVENT
BEGIN:VEVENT
DTSTAMP:20260426T003630
DTSTART;TZID=Europe/Berlin:20260713T200000
DTEND;TZID=Europe/Berlin:20260713T210000
UID:262-312005-20260713T200000@VHSASCHAFFENBURG
SUMMARY:Wohlfühlen mit AROHA® (262-312005) 
LOCATION:vhs Aschaffenburg, Schweinheimer Str. 15, Raum E01, Schweinheimer Str. 15, 63743 Aschaffenburg
END:VEVENT
BEGIN:VEVENT
DTSTAMP:20260426T003630
DTSTART;TZID=Europe/Berlin:20260720T200000
DTEND;TZID=Europe/Berlin:20260720T210000
UID:262-312005-20260720T200000@VHSASCHAFFENBURG
SUMMARY:Wohlfühlen mit AROHA® (262-312005) 
LOCATION:vhs Aschaffenburg, Schweinheimer Str. 15, Raum E01, Schweinheimer Str. 15, 63743 Aschaffenburg
END:VEVENT
END:VCALENDAR