BEGIN:VCALENDAR
VERSION:2.0
PRODID:https://www.kufer.de/kuferweb / DE
METHOD:PUBLISH
CALSCALE:GREGORIAN
X-WR-TIMEZONE:Europe/Berlin
BEGIN:VTIMEZONE
TZID:Europe/Berlin
X-LIC-LOCATION:Europe/Berlin
BEGIN:DAYLIGHT
TZOFFSETFROM:+0100
TZOFFSETTO:+0200
TZNAME:CEST
DTSTART:19700329T020000
RRULE:FREQ=YEARLY;INTERVAL=1;BYDAY=-1SU;BYMONTH=3
END:DAYLIGHT
BEGIN:STANDARD
TZOFFSETFROM:+0200
TZOFFSETTO:+0100
TZNAME:CET
DTSTART:19701025T030000
RRULE:FREQ=YEARLY;INTERVAL=1;BYDAY=-1SU;BYMONTH=10
END:STANDARD
END:VTIMEZONE
BEGIN:VEVENT
DTSTAMP:20260419T152737
DTSTART;TZID=Europe/Berlin:20260602T190000
DTEND;TZID=Europe/Berlin:20260602T194500
UID:262-316001-20260602T190000@VHSASCHAFFENBURG
SUMMARY:Aqua Fitness im Freibad (262-316001) 
LOCATION:Stadtbad, Stadtbadstr. 1, Stadtbad, Stadtbadstr. 1, 63739 Aschaffenburg
END:VEVENT
BEGIN:VEVENT
DTSTAMP:20260419T152737
DTSTART;TZID=Europe/Berlin:20260609T190000
DTEND;TZID=Europe/Berlin:20260609T194500
UID:262-316001-20260609T190000@VHSASCHAFFENBURG
SUMMARY:Aqua Fitness im Freibad (262-316001) 
LOCATION:Stadtbad, Stadtbadstr. 1, Stadtbad, Stadtbadstr. 1, 63739 Aschaffenburg
END:VEVENT
BEGIN:VEVENT
DTSTAMP:20260419T152737
DTSTART;TZID=Europe/Berlin:20260616T190000
DTEND;TZID=Europe/Berlin:20260616T194500
UID:262-316001-20260616T190000@VHSASCHAFFENBURG
SUMMARY:Aqua Fitness im Freibad (262-316001) 
LOCATION:Stadtbad, Stadtbadstr. 1, Stadtbad, Stadtbadstr. 1, 63739 Aschaffenburg
END:VEVENT
BEGIN:VEVENT
DTSTAMP:20260419T152737
DTSTART;TZID=Europe/Berlin:20260623T190000
DTEND;TZID=Europe/Berlin:20260623T194500
UID:262-316001-20260623T190000@VHSASCHAFFENBURG
SUMMARY:Aqua Fitness im Freibad (262-316001) 
LOCATION:Stadtbad, Stadtbadstr. 1, Stadtbad, Stadtbadstr. 1, 63739 Aschaffenburg
END:VEVENT
BEGIN:VEVENT
DTSTAMP:20260419T152737
DTSTART;TZID=Europe/Berlin:20260630T190000
DTEND;TZID=Europe/Berlin:20260630T194500
UID:262-316001-20260630T190000@VHSASCHAFFENBURG
SUMMARY:Aqua Fitness im Freibad (262-316001) 
LOCATION:Stadtbad, Stadtbadstr. 1, Stadtbad, Stadtbadstr. 1, 63739 Aschaffenburg
END:VEVENT
BEGIN:VEVENT
DTSTAMP:20260419T152737
DTSTART;TZID=Europe/Berlin:20260707T190000
DTEND;TZID=Europe/Berlin:20260707T194500
UID:262-316001-20260707T190000@VHSASCHAFFENBURG
SUMMARY:Aqua Fitness im Freibad (262-316001) 
LOCATION:Stadtbad, Stadtbadstr. 1, Stadtbad, Stadtbadstr. 1, 63739 Aschaffenburg
END:VEVENT
BEGIN:VEVENT
DTSTAMP:20260419T152737
DTSTART;TZID=Europe/Berlin:20260714T190000
DTEND;TZID=Europe/Berlin:20260714T194500
UID:262-316001-20260714T190000@VHSASCHAFFENBURG
SUMMARY:Aqua Fitness im Freibad (262-316001) 
LOCATION:Stadtbad, Stadtbadstr. 1, Stadtbad, Stadtbadstr. 1, 63739 Aschaffenburg
END:VEVENT
BEGIN:VEVENT
DTSTAMP:20260419T152737
DTSTART;TZID=Europe/Berlin:20260721T190000
DTEND;TZID=Europe/Berlin:20260721T194500
UID:262-316001-20260721T190000@VHSASCHAFFENBURG
SUMMARY:Aqua Fitness im Freibad (262-316001) 
LOCATION:Stadtbad, Stadtbadstr. 1, Stadtbad, Stadtbadstr. 1, 63739 Aschaffenburg
END:VEVENT
BEGIN:VEVENT
DTSTAMP:20260419T152737
DTSTART;TZID=Europe/Berlin:20260728T190000
DTEND;TZID=Europe/Berlin:20260728T194500
UID:262-316001-20260728T190000@VHSASCHAFFENBURG
SUMMARY:Aqua Fitness im Freibad (262-316001) 
LOCATION:Stadtbad, Stadtbadstr. 1, Stadtbad, Stadtbadstr. 1, 63739 Aschaffenburg
END:VEVENT
END:VCALENDAR