BEGIN:VCALENDAR
VERSION:2.0
PRODID:https://www.kufer.de/kuferweb / DE
METHOD:PUBLISH
CALSCALE:GREGORIAN
X-WR-TIMEZONE:Europe/Berlin
BEGIN:VTIMEZONE
TZID:Europe/Berlin
X-LIC-LOCATION:Europe/Berlin
BEGIN:DAYLIGHT
TZOFFSETFROM:+0100
TZOFFSETTO:+0200
TZNAME:CEST
DTSTART:19700329T020000
RRULE:FREQ=YEARLY;INTERVAL=1;BYDAY=-1SU;BYMONTH=3
END:DAYLIGHT
BEGIN:STANDARD
TZOFFSETFROM:+0200
TZOFFSETTO:+0100
TZNAME:CET
DTSTART:19701025T030000
RRULE:FREQ=YEARLY;INTERVAL=1;BYDAY=-1SU;BYMONTH=10
END:STANDARD
END:VTIMEZONE
BEGIN:VEVENT
DTSTAMP:20260426T020314
DTSTART;TZID=Europe/Berlin:20260508T133000
DTEND;TZID=Europe/Berlin:20260508T144500
UID:262-321060-20260508T133000@VHSASCHAFFENBURG
SUMMARY:Fit und dynamisch mit Yoga (262-321060) 
LOCATION:vhs Aschaffenburg, Schweinheimer Str. 15, Raum U01, Schweinheimer Str. 15, 63743 Aschaffenburg
END:VEVENT
BEGIN:VEVENT
DTSTAMP:20260426T020314
DTSTART;TZID=Europe/Berlin:20260515T133000
DTEND;TZID=Europe/Berlin:20260515T144500
UID:262-321060-20260515T133000@VHSASCHAFFENBURG
SUMMARY:Fit und dynamisch mit Yoga (262-321060) 
LOCATION:vhs Aschaffenburg, Schweinheimer Str. 15, Raum U01, Schweinheimer Str. 15, 63743 Aschaffenburg
END:VEVENT
BEGIN:VEVENT
DTSTAMP:20260426T020315
DTSTART;TZID=Europe/Berlin:20260522T133000
DTEND;TZID=Europe/Berlin:20260522T144500
UID:262-321060-20260522T133000@VHSASCHAFFENBURG
SUMMARY:Fit und dynamisch mit Yoga (262-321060) 
LOCATION:vhs Aschaffenburg, Schweinheimer Str. 15, Raum U01, Schweinheimer Str. 15, 63743 Aschaffenburg
END:VEVENT
BEGIN:VEVENT
DTSTAMP:20260426T020315
DTSTART;TZID=Europe/Berlin:20260612T133000
DTEND;TZID=Europe/Berlin:20260612T144500
UID:262-321060-20260612T133000@VHSASCHAFFENBURG
SUMMARY:Fit und dynamisch mit Yoga (262-321060) 
LOCATION:vhs Aschaffenburg, Schweinheimer Str. 15, Raum U01, Schweinheimer Str. 15, 63743 Aschaffenburg
END:VEVENT
BEGIN:VEVENT
DTSTAMP:20260426T020315
DTSTART;TZID=Europe/Berlin:20260619T133000
DTEND;TZID=Europe/Berlin:20260619T144500
UID:262-321060-20260619T133000@VHSASCHAFFENBURG
SUMMARY:Fit und dynamisch mit Yoga (262-321060) 
LOCATION:vhs Aschaffenburg, Schweinheimer Str. 15, Raum U01, Schweinheimer Str. 15, 63743 Aschaffenburg
END:VEVENT
BEGIN:VEVENT
DTSTAMP:20260426T020315
DTSTART;TZID=Europe/Berlin:20260626T133000
DTEND;TZID=Europe/Berlin:20260626T144500
UID:262-321060-20260626T133000@VHSASCHAFFENBURG
SUMMARY:Fit und dynamisch mit Yoga (262-321060) 
LOCATION:vhs Aschaffenburg, Schweinheimer Str. 15, Raum U01, Schweinheimer Str. 15, 63743 Aschaffenburg
END:VEVENT
BEGIN:VEVENT
DTSTAMP:20260426T020315
DTSTART;TZID=Europe/Berlin:20260703T133000
DTEND;TZID=Europe/Berlin:20260703T144500
UID:262-321060-20260703T133000@VHSASCHAFFENBURG
SUMMARY:Fit und dynamisch mit Yoga (262-321060) 
LOCATION:vhs Aschaffenburg, Schweinheimer Str. 15, Raum U01, Schweinheimer Str. 15, 63743 Aschaffenburg
END:VEVENT
BEGIN:VEVENT
DTSTAMP:20260426T020315
DTSTART;TZID=Europe/Berlin:20260710T133000
DTEND;TZID=Europe/Berlin:20260710T144500
UID:262-321060-20260710T133000@VHSASCHAFFENBURG
SUMMARY:Fit und dynamisch mit Yoga (262-321060) 
LOCATION:vhs Aschaffenburg, Schweinheimer Str. 15, Raum U01, Schweinheimer Str. 15, 63743 Aschaffenburg
END:VEVENT
BEGIN:VEVENT
DTSTAMP:20260426T020315
DTSTART;TZID=Europe/Berlin:20260717T133000
DTEND;TZID=Europe/Berlin:20260717T144500
UID:262-321060-20260717T133000@VHSASCHAFFENBURG
SUMMARY:Fit und dynamisch mit Yoga (262-321060) 
LOCATION:vhs Aschaffenburg, Schweinheimer Str. 15, Raum U01, Schweinheimer Str. 15, 63743 Aschaffenburg
END:VEVENT
BEGIN:VEVENT
DTSTAMP:20260426T020315
DTSTART;TZID=Europe/Berlin:20260724T133000
DTEND;TZID=Europe/Berlin:20260724T144500
UID:262-321060-20260724T133000@VHSASCHAFFENBURG
SUMMARY:Fit und dynamisch mit Yoga (262-321060) 
LOCATION:vhs Aschaffenburg, Schweinheimer Str. 15, Raum U01, Schweinheimer Str. 15, 63743 Aschaffenburg
END:VEVENT
END:VCALENDAR