BEGIN:VCALENDAR
VERSION:2.0
PRODID:https://www.kufer.de/kuferweb / DE
METHOD:PUBLISH
CALSCALE:GREGORIAN
X-WR-TIMEZONE:Europe/Berlin
BEGIN:VTIMEZONE
TZID:Europe/Berlin
X-LIC-LOCATION:Europe/Berlin
BEGIN:DAYLIGHT
TZOFFSETFROM:+0100
TZOFFSETTO:+0200
TZNAME:CEST
DTSTART:19700329T020000
RRULE:FREQ=YEARLY;INTERVAL=1;BYDAY=-1SU;BYMONTH=3
END:DAYLIGHT
BEGIN:STANDARD
TZOFFSETFROM:+0200
TZOFFSETTO:+0100
TZNAME:CET
DTSTART:19701025T030000
RRULE:FREQ=YEARLY;INTERVAL=1;BYDAY=-1SU;BYMONTH=10
END:STANDARD
END:VTIMEZONE
BEGIN:VEVENT
DTSTAMP:20260419T172445
DTSTART;TZID=Europe/Berlin:20260504T193000
DTEND;TZID=Europe/Berlin:20260504T210000
UID:262-321062-20260504T193000@VHSASCHAFFENBURG
SUMMARY:Vinyasa Yoga (262-321062) 
LOCATION:vhs Aschaffenburg, Haupthaus, Luitpoldstr.2, Raum 205, 2. Stock, Luitpoldstr. 2, 63739 Aschaffenburg
END:VEVENT
BEGIN:VEVENT
DTSTAMP:20260419T172445
DTSTART;TZID=Europe/Berlin:20260511T193000
DTEND;TZID=Europe/Berlin:20260511T210000
UID:262-321062-20260511T193000@VHSASCHAFFENBURG
SUMMARY:Vinyasa Yoga (262-321062) 
LOCATION:vhs Aschaffenburg, Haupthaus, Luitpoldstr.2, Raum 205, 2. Stock, Luitpoldstr. 2, 63739 Aschaffenburg
END:VEVENT
BEGIN:VEVENT
DTSTAMP:20260419T172445
DTSTART;TZID=Europe/Berlin:20260518T193000
DTEND;TZID=Europe/Berlin:20260518T210000
UID:262-321062-20260518T193000@VHSASCHAFFENBURG
SUMMARY:Vinyasa Yoga (262-321062) 
LOCATION:vhs Aschaffenburg, Haupthaus, Luitpoldstr.2, Raum 205, 2. Stock, Luitpoldstr. 2, 63739 Aschaffenburg
END:VEVENT
BEGIN:VEVENT
DTSTAMP:20260419T172445
DTSTART;TZID=Europe/Berlin:20260608T193000
DTEND;TZID=Europe/Berlin:20260608T210000
UID:262-321062-20260608T193000@VHSASCHAFFENBURG
SUMMARY:Vinyasa Yoga (262-321062) 
LOCATION:vhs Aschaffenburg, Haupthaus, Luitpoldstr.2, Raum 205, 2. Stock, Luitpoldstr. 2, 63739 Aschaffenburg
END:VEVENT
BEGIN:VEVENT
DTSTAMP:20260419T172445
DTSTART;TZID=Europe/Berlin:20260615T193000
DTEND;TZID=Europe/Berlin:20260615T210000
UID:262-321062-20260615T193000@VHSASCHAFFENBURG
SUMMARY:Vinyasa Yoga (262-321062) 
LOCATION:vhs Aschaffenburg, Haupthaus, Luitpoldstr.2, Raum 205, 2. Stock, Luitpoldstr. 2, 63739 Aschaffenburg
END:VEVENT
BEGIN:VEVENT
DTSTAMP:20260419T172445
DTSTART;TZID=Europe/Berlin:20260622T193000
DTEND;TZID=Europe/Berlin:20260622T210000
UID:262-321062-20260622T193000@VHSASCHAFFENBURG
SUMMARY:Vinyasa Yoga (262-321062) 
LOCATION:vhs Aschaffenburg, Haupthaus, Luitpoldstr.2, Raum 205, 2. Stock, Luitpoldstr. 2, 63739 Aschaffenburg
END:VEVENT
BEGIN:VEVENT
DTSTAMP:20260419T172445
DTSTART;TZID=Europe/Berlin:20260629T193000
DTEND;TZID=Europe/Berlin:20260629T210000
UID:262-321062-20260629T193000@VHSASCHAFFENBURG
SUMMARY:Vinyasa Yoga (262-321062) 
LOCATION:vhs Aschaffenburg, Haupthaus, Luitpoldstr.2, Raum 205, 2. Stock, Luitpoldstr. 2, 63739 Aschaffenburg
END:VEVENT
BEGIN:VEVENT
DTSTAMP:20260419T172445
DTSTART;TZID=Europe/Berlin:20260706T193000
DTEND;TZID=Europe/Berlin:20260706T210000
UID:262-321062-20260706T193000@VHSASCHAFFENBURG
SUMMARY:Vinyasa Yoga (262-321062) 
LOCATION:vhs Aschaffenburg, Haupthaus, Luitpoldstr.2, Raum 205, 2. Stock, Luitpoldstr. 2, 63739 Aschaffenburg
END:VEVENT
BEGIN:VEVENT
DTSTAMP:20260419T172445
DTSTART;TZID=Europe/Berlin:20260713T193000
DTEND;TZID=Europe/Berlin:20260713T210000
UID:262-321062-20260713T193000@VHSASCHAFFENBURG
SUMMARY:Vinyasa Yoga (262-321062) 
LOCATION:vhs Aschaffenburg, Haupthaus, Luitpoldstr.2, Raum 205, 2. Stock, Luitpoldstr. 2, 63739 Aschaffenburg
END:VEVENT
BEGIN:VEVENT
DTSTAMP:20260419T172445
DTSTART;TZID=Europe/Berlin:20260720T193000
DTEND;TZID=Europe/Berlin:20260720T210000
UID:262-321062-20260720T193000@VHSASCHAFFENBURG
SUMMARY:Vinyasa Yoga (262-321062) 
LOCATION:vhs Aschaffenburg, Haupthaus, Luitpoldstr.2, Raum 205, 2. Stock, Luitpoldstr. 2, 63739 Aschaffenburg
END:VEVENT
END:VCALENDAR