BEGIN:VCALENDAR
VERSION:2.0
PRODID:https://www.kufer.de/kuferweb / DE
METHOD:PUBLISH
CALSCALE:GREGORIAN
X-WR-TIMEZONE:Europe/Berlin
BEGIN:VTIMEZONE
TZID:Europe/Berlin
X-LIC-LOCATION:Europe/Berlin
BEGIN:DAYLIGHT
TZOFFSETFROM:+0100
TZOFFSETTO:+0200
TZNAME:CEST
DTSTART:19700329T020000
RRULE:FREQ=YEARLY;INTERVAL=1;BYDAY=-1SU;BYMONTH=3
END:DAYLIGHT
BEGIN:STANDARD
TZOFFSETFROM:+0200
TZOFFSETTO:+0100
TZNAME:CET
DTSTART:19701025T030000
RRULE:FREQ=YEARLY;INTERVAL=1;BYDAY=-1SU;BYMONTH=10
END:STANDARD
END:VTIMEZONE
BEGIN:VEVENT
DTSTAMP:20260425T230516
DTSTART;TZID=Europe/Berlin:20260609T170000
DTEND;TZID=Europe/Berlin:20260609T183000
UID:262-321106-20260609T170000@VHSASCHAFFENBURG
SUMMARY:Feelgood-Yoga (262-321106) 
LOCATION:Großostheim - OT Pflaumheim, Haus der Vereine, Kirchplatz 1
END:VEVENT
BEGIN:VEVENT
DTSTAMP:20260425T230516
DTSTART;TZID=Europe/Berlin:20260616T170000
DTEND;TZID=Europe/Berlin:20260616T183000
UID:262-321106-20260616T170000@VHSASCHAFFENBURG
SUMMARY:Feelgood-Yoga (262-321106) 
LOCATION:Großostheim - OT Pflaumheim, Haus der Vereine, Kirchplatz 1
END:VEVENT
BEGIN:VEVENT
DTSTAMP:20260425T230516
DTSTART;TZID=Europe/Berlin:20260623T170000
DTEND;TZID=Europe/Berlin:20260623T183000
UID:262-321106-20260623T170000@VHSASCHAFFENBURG
SUMMARY:Feelgood-Yoga (262-321106) 
LOCATION:Großostheim - OT Pflaumheim, Haus der Vereine, Kirchplatz 1
END:VEVENT
BEGIN:VEVENT
DTSTAMP:20260425T230516
DTSTART;TZID=Europe/Berlin:20260630T170000
DTEND;TZID=Europe/Berlin:20260630T183000
UID:262-321106-20260630T170000@VHSASCHAFFENBURG
SUMMARY:Feelgood-Yoga (262-321106) 
LOCATION:Großostheim - OT Pflaumheim, Haus der Vereine, Kirchplatz 1
END:VEVENT
BEGIN:VEVENT
DTSTAMP:20260425T230516
DTSTART;TZID=Europe/Berlin:20260707T170000
DTEND;TZID=Europe/Berlin:20260707T183000
UID:262-321106-20260707T170000@VHSASCHAFFENBURG
SUMMARY:Feelgood-Yoga (262-321106) 
LOCATION:Großostheim - OT Pflaumheim, Haus der Vereine, Kirchplatz 1
END:VEVENT
BEGIN:VEVENT
DTSTAMP:20260425T230516
DTSTART;TZID=Europe/Berlin:20260714T170000
DTEND;TZID=Europe/Berlin:20260714T183000
UID:262-321106-20260714T170000@VHSASCHAFFENBURG
SUMMARY:Feelgood-Yoga (262-321106) 
LOCATION:Großostheim - OT Pflaumheim, Haus der Vereine, Kirchplatz 1
END:VEVENT
BEGIN:VEVENT
DTSTAMP:20260425T230516
DTSTART;TZID=Europe/Berlin:20260721T170000
DTEND;TZID=Europe/Berlin:20260721T183000
UID:262-321106-20260721T170000@VHSASCHAFFENBURG
SUMMARY:Feelgood-Yoga (262-321106) 
LOCATION:Großostheim - OT Pflaumheim, Haus der Vereine, Kirchplatz 1
END:VEVENT
BEGIN:VEVENT
DTSTAMP:20260425T230516
DTSTART;TZID=Europe/Berlin:20260728T170000
DTEND;TZID=Europe/Berlin:20260728T183000
UID:262-321106-20260728T170000@VHSASCHAFFENBURG
SUMMARY:Feelgood-Yoga (262-321106) 
LOCATION:Großostheim - OT Pflaumheim, Haus der Vereine, Kirchplatz 1
END:VEVENT
END:VCALENDAR