BEGIN:VCALENDAR
VERSION:2.0
PRODID:https://www.kufer.de/kuferweb / DE
METHOD:PUBLISH
CALSCALE:GREGORIAN
X-WR-TIMEZONE:Europe/Berlin
BEGIN:VTIMEZONE
TZID:Europe/Berlin
X-LIC-LOCATION:Europe/Berlin
BEGIN:DAYLIGHT
TZOFFSETFROM:+0100
TZOFFSETTO:+0200
TZNAME:CEST
DTSTART:19700329T020000
RRULE:FREQ=YEARLY;INTERVAL=1;BYDAY=-1SU;BYMONTH=3
END:DAYLIGHT
BEGIN:STANDARD
TZOFFSETFROM:+0200
TZOFFSETTO:+0100
TZNAME:CET
DTSTART:19701025T030000
RRULE:FREQ=YEARLY;INTERVAL=1;BYDAY=-1SU;BYMONTH=10
END:STANDARD
END:VTIMEZONE
BEGIN:VEVENT
DTSTAMP:20260426T035724
DTSTART;TZID=Europe/Berlin:20260610T183000
DTEND;TZID=Europe/Berlin:20260610T194500
UID:262-321110-20260610T183000@VHSASCHAFFENBURG
SUMMARY:Yin-Yoga für Einsteiger/Wiedereinsteiger (262-321110) 
LOCATION:Großostheim, Altes Rathaus, Breite Str. 58, Raum 5, 63762 Großostheim
END:VEVENT
BEGIN:VEVENT
DTSTAMP:20260426T035724
DTSTART;TZID=Europe/Berlin:20260617T183000
DTEND;TZID=Europe/Berlin:20260617T194500
UID:262-321110-20260617T183000@VHSASCHAFFENBURG
SUMMARY:Yin-Yoga für Einsteiger/Wiedereinsteiger (262-321110) 
LOCATION:Großostheim, Altes Rathaus, Breite Str. 58, Raum 5, 63762 Großostheim
END:VEVENT
BEGIN:VEVENT
DTSTAMP:20260426T035724
DTSTART;TZID=Europe/Berlin:20260624T183000
DTEND;TZID=Europe/Berlin:20260624T194500
UID:262-321110-20260624T183000@VHSASCHAFFENBURG
SUMMARY:Yin-Yoga für Einsteiger/Wiedereinsteiger (262-321110) 
LOCATION:Großostheim, Altes Rathaus, Breite Str. 58, Raum 5, 63762 Großostheim
END:VEVENT
BEGIN:VEVENT
DTSTAMP:20260426T035724
DTSTART;TZID=Europe/Berlin:20260701T183000
DTEND;TZID=Europe/Berlin:20260701T194500
UID:262-321110-20260701T183000@VHSASCHAFFENBURG
SUMMARY:Yin-Yoga für Einsteiger/Wiedereinsteiger (262-321110) 
LOCATION:Großostheim, Altes Rathaus, Breite Str. 58, Raum 5, 63762 Großostheim
END:VEVENT
BEGIN:VEVENT
DTSTAMP:20260426T035724
DTSTART;TZID=Europe/Berlin:20260708T183000
DTEND;TZID=Europe/Berlin:20260708T194500
UID:262-321110-20260708T183000@VHSASCHAFFENBURG
SUMMARY:Yin-Yoga für Einsteiger/Wiedereinsteiger (262-321110) 
LOCATION:Großostheim, Altes Rathaus, Breite Str. 58, Raum 5, 63762 Großostheim
END:VEVENT
BEGIN:VEVENT
DTSTAMP:20260426T035724
DTSTART;TZID=Europe/Berlin:20260715T183000
DTEND;TZID=Europe/Berlin:20260715T194500
UID:262-321110-20260715T183000@VHSASCHAFFENBURG
SUMMARY:Yin-Yoga für Einsteiger/Wiedereinsteiger (262-321110) 
LOCATION:Großostheim, Altes Rathaus, Breite Str. 58, Raum 5, 63762 Großostheim
END:VEVENT
BEGIN:VEVENT
DTSTAMP:20260426T035724
DTSTART;TZID=Europe/Berlin:20260722T183000
DTEND;TZID=Europe/Berlin:20260722T194500
UID:262-321110-20260722T183000@VHSASCHAFFENBURG
SUMMARY:Yin-Yoga für Einsteiger/Wiedereinsteiger (262-321110) 
LOCATION:Großostheim, Altes Rathaus, Breite Str. 58, Raum 5, 63762 Großostheim
END:VEVENT
BEGIN:VEVENT
DTSTAMP:20260426T035724
DTSTART;TZID=Europe/Berlin:20260729T183000
DTEND;TZID=Europe/Berlin:20260729T194500
UID:262-321110-20260729T183000@VHSASCHAFFENBURG
SUMMARY:Yin-Yoga für Einsteiger/Wiedereinsteiger (262-321110) 
LOCATION:Großostheim, Altes Rathaus, Breite Str. 58, Raum 5, 63762 Großostheim
END:VEVENT
END:VCALENDAR