BEGIN:VCALENDAR
VERSION:2.0
PRODID:https://www.kufer.de/kuferweb / DE
METHOD:PUBLISH
CALSCALE:GREGORIAN
X-WR-TIMEZONE:Europe/Berlin
BEGIN:VTIMEZONE
TZID:Europe/Berlin
X-LIC-LOCATION:Europe/Berlin
BEGIN:DAYLIGHT
TZOFFSETFROM:+0100
TZOFFSETTO:+0200
TZNAME:CEST
DTSTART:19700329T020000
RRULE:FREQ=YEARLY;INTERVAL=1;BYDAY=-1SU;BYMONTH=3
END:DAYLIGHT
BEGIN:STANDARD
TZOFFSETFROM:+0200
TZOFFSETTO:+0100
TZNAME:CET
DTSTART:19701025T030000
RRULE:FREQ=YEARLY;INTERVAL=1;BYDAY=-1SU;BYMONTH=10
END:STANDARD
END:VTIMEZONE
BEGIN:VEVENT
DTSTAMP:20260423T140550
DTSTART;TZID=Europe/Berlin:20260930T190000
DTEND;TZID=Europe/Berlin:20260930T211500
UID:263-235852-20260930T190000@VHSASCHAFFENBURG
SUMMARY:Töpferwerkstatt für Erwachsene – Kreatives Töpfern (263-235852) 
LOCATION:Goldbach, Haus Effata, Schulstraße 15, Werkraum, 63773 Goldbach
END:VEVENT
BEGIN:VEVENT
DTSTAMP:20260423T140550
DTSTART;TZID=Europe/Berlin:20261007T190000
DTEND;TZID=Europe/Berlin:20261007T211500
UID:263-235852-20261007T190000@VHSASCHAFFENBURG
SUMMARY:Töpferwerkstatt für Erwachsene – Kreatives Töpfern (263-235852) 
LOCATION:Goldbach, Haus Effata, Schulstraße 15, Werkraum, 63773 Goldbach
END:VEVENT
BEGIN:VEVENT
DTSTAMP:20260423T140550
DTSTART;TZID=Europe/Berlin:20261014T190000
DTEND;TZID=Europe/Berlin:20261014T211500
UID:263-235852-20261014T190000@VHSASCHAFFENBURG
SUMMARY:Töpferwerkstatt für Erwachsene – Kreatives Töpfern (263-235852) 
LOCATION:Goldbach, Haus Effata, Schulstraße 15, Werkraum, 63773 Goldbach
END:VEVENT
BEGIN:VEVENT
DTSTAMP:20260423T140550
DTSTART;TZID=Europe/Berlin:20261021T190000
DTEND;TZID=Europe/Berlin:20261021T211500
UID:263-235852-20261021T190000@VHSASCHAFFENBURG
SUMMARY:Töpferwerkstatt für Erwachsene – Kreatives Töpfern (263-235852) 
LOCATION:Goldbach, Haus Effata, Schulstraße 15, Werkraum, 63773 Goldbach
END:VEVENT
BEGIN:VEVENT
DTSTAMP:20260423T140550
DTSTART;TZID=Europe/Berlin:20261111T190000
DTEND;TZID=Europe/Berlin:20261111T211500
UID:263-235852-20261111T190000@VHSASCHAFFENBURG
DESCRIPTION:Glasurtermin
SUMMARY:Töpferwerkstatt für Erwachsene – Kreatives Töpfern (263-235852) 
LOCATION:Goldbach, Haus Effata, Schulstraße 15, Werkraum, 63773 Goldbach
END:VEVENT
END:VCALENDAR