BEGIN:VCALENDAR
VERSION:2.0
PRODID:https://www.kufer.de/kuferweb / DE
METHOD:PUBLISH
CALSCALE:GREGORIAN
X-WR-TIMEZONE:Europe/Berlin
BEGIN:VTIMEZONE
TZID:Europe/Berlin
X-LIC-LOCATION:Europe/Berlin
BEGIN:DAYLIGHT
TZOFFSETFROM:+0100
TZOFFSETTO:+0200
TZNAME:CEST
DTSTART:19700329T020000
RRULE:FREQ=YEARLY;INTERVAL=1;BYDAY=-1SU;BYMONTH=3
END:DAYLIGHT
BEGIN:STANDARD
TZOFFSETFROM:+0200
TZOFFSETTO:+0100
TZNAME:CET
DTSTART:19701025T030000
RRULE:FREQ=YEARLY;INTERVAL=1;BYDAY=-1SU;BYMONTH=10
END:STANDARD
END:VTIMEZONE
BEGIN:VEVENT
DTSTAMP:20260422T195843
DTSTART;TZID=Europe/Berlin:20261013T103000
DTEND;TZID=Europe/Berlin:20261013T113000
UID:263-322005-20261013T103000@VHSASCHAFFENBURG
SUMMARY:Qi Gong für Senior*innen - die 18 Figuren der Harmonie (263-322005) 
LOCATION:vhs Aschaffenburg, Schweinheimer Str. 15, Raum E01, Schweinheimer Str. 15, 63743 Aschaffenburg
END:VEVENT
BEGIN:VEVENT
DTSTAMP:20260422T195843
DTSTART;TZID=Europe/Berlin:20261020T103000
DTEND;TZID=Europe/Berlin:20261020T113000
UID:263-322005-20261020T103000@VHSASCHAFFENBURG
SUMMARY:Qi Gong für Senior*innen - die 18 Figuren der Harmonie (263-322005) 
LOCATION:vhs Aschaffenburg, Schweinheimer Str. 15, Raum E01, Schweinheimer Str. 15, 63743 Aschaffenburg
END:VEVENT
BEGIN:VEVENT
DTSTAMP:20260422T195843
DTSTART;TZID=Europe/Berlin:20261027T103000
DTEND;TZID=Europe/Berlin:20261027T113000
UID:263-322005-20261027T103000@VHSASCHAFFENBURG
SUMMARY:Qi Gong für Senior*innen - die 18 Figuren der Harmonie (263-322005) 
LOCATION:vhs Aschaffenburg, Schweinheimer Str. 15, Raum E01, Schweinheimer Str. 15, 63743 Aschaffenburg
END:VEVENT
BEGIN:VEVENT
DTSTAMP:20260422T195843
DTSTART;TZID=Europe/Berlin:20261103T103000
DTEND;TZID=Europe/Berlin:20261103T113000
UID:263-322005-20261103T103000@VHSASCHAFFENBURG
SUMMARY:Qi Gong für Senior*innen - die 18 Figuren der Harmonie (263-322005) 
LOCATION:vhs Aschaffenburg, Schweinheimer Str. 15, Raum E01, Schweinheimer Str. 15, 63743 Aschaffenburg
END:VEVENT
BEGIN:VEVENT
DTSTAMP:20260422T195843
DTSTART;TZID=Europe/Berlin:20261110T103000
DTEND;TZID=Europe/Berlin:20261110T113000
UID:263-322005-20261110T103000@VHSASCHAFFENBURG
SUMMARY:Qi Gong für Senior*innen - die 18 Figuren der Harmonie (263-322005) 
LOCATION:vhs Aschaffenburg, Schweinheimer Str. 15, Raum E01, Schweinheimer Str. 15, 63743 Aschaffenburg
END:VEVENT
BEGIN:VEVENT
DTSTAMP:20260422T195843
DTSTART;TZID=Europe/Berlin:20261117T103000
DTEND;TZID=Europe/Berlin:20261117T113000
UID:263-322005-20261117T103000@VHSASCHAFFENBURG
SUMMARY:Qi Gong für Senior*innen - die 18 Figuren der Harmonie (263-322005) 
LOCATION:vhs Aschaffenburg, Schweinheimer Str. 15, Raum E01, Schweinheimer Str. 15, 63743 Aschaffenburg
END:VEVENT
BEGIN:VEVENT
DTSTAMP:20260422T195843
DTSTART;TZID=Europe/Berlin:20261124T103000
DTEND;TZID=Europe/Berlin:20261124T113000
UID:263-322005-20261124T103000@VHSASCHAFFENBURG
SUMMARY:Qi Gong für Senior*innen - die 18 Figuren der Harmonie (263-322005) 
LOCATION:vhs Aschaffenburg, Schweinheimer Str. 15, Raum E01, Schweinheimer Str. 15, 63743 Aschaffenburg
END:VEVENT
BEGIN:VEVENT
DTSTAMP:20260422T195843
DTSTART;TZID=Europe/Berlin:20261201T103000
DTEND;TZID=Europe/Berlin:20261201T113000
UID:263-322005-20261201T103000@VHSASCHAFFENBURG
SUMMARY:Qi Gong für Senior*innen - die 18 Figuren der Harmonie (263-322005) 
LOCATION:vhs Aschaffenburg, Schweinheimer Str. 15, Raum E01, Schweinheimer Str. 15, 63743 Aschaffenburg
END:VEVENT
BEGIN:VEVENT
DTSTAMP:20260422T195843
DTSTART;TZID=Europe/Berlin:20261208T103000
DTEND;TZID=Europe/Berlin:20261208T113000
UID:263-322005-20261208T103000@VHSASCHAFFENBURG
SUMMARY:Qi Gong für Senior*innen - die 18 Figuren der Harmonie (263-322005) 
LOCATION:vhs Aschaffenburg, Schweinheimer Str. 15, Raum E01, Schweinheimer Str. 15, 63743 Aschaffenburg
END:VEVENT
END:VCALENDAR