BEGIN:VCALENDAR
VERSION:2.0
PRODID:https://www.kufer.de/kuferweb / DE
METHOD:PUBLISH
CALSCALE:GREGORIAN
X-WR-TIMEZONE:Europe/Berlin
BEGIN:VTIMEZONE
TZID:Europe/Berlin
X-LIC-LOCATION:Europe/Berlin
BEGIN:DAYLIGHT
TZOFFSETFROM:+0100
TZOFFSETTO:+0200
TZNAME:CEST
DTSTART:19700329T020000
RRULE:FREQ=YEARLY;INTERVAL=1;BYDAY=-1SU;BYMONTH=3
END:DAYLIGHT
BEGIN:STANDARD
TZOFFSETFROM:+0200
TZOFFSETTO:+0100
TZNAME:CET
DTSTART:19701025T030000
RRULE:FREQ=YEARLY;INTERVAL=1;BYDAY=-1SU;BYMONTH=10
END:STANDARD
END:VTIMEZONE
BEGIN:VEVENT
DTSTAMP:20260420T195727
DTSTART;TZID=Europe/Berlin:20261021T173000
DTEND;TZID=Europe/Berlin:20261021T210000
UID:263-599450-20261021T173000@VHSASCHAFFENBURG
SUMMARY:Soulfood - Bowls und Suppen (263-599450) 
LOCATION:vhs Aschaffenburg, Haupthaus, Luitpoldstr.2, Küche, EG, Luitpoldstr. 2, 63739 Aschaffenburg
END:VEVENT
END:VCALENDAR